BEGIN:VCALENDAR
VERSION:2.0
PRODID:-//Squarespace Inc/Squarespace 6//v6//EN
BEGIN:VEVENT
UID:5e4251eeb76b490661fb918d@squarespace.com
DTSTAMP:20200211T071257Z
DTSTART:20200223T000000Z
DTEND:20200223T060000Z
SUMMARY:Picnic Surry Hills
END:VEVENT
END:VCALENDAR
